BEGIN:VCALENDAR
VERSION:2.0
PRODID:spatie/icalendar-generator
DESCRIPTION:Events from Tax Connect
X-WR-CALDESC:Events from Tax Connect
REFRESH-INTERVAL;VALUE=DURATION:PT1440M
X-PUBLISHED-TTL:PT1440M
BEGIN:VTIMEZONE
TZID:Asia/Kolkata
BEGIN:STANDARD
DTSTART:20250725T000000Z
TZOFFSETFROM:+0500
TZOFFSETTO:+0500
END:STANDARD
END:VTIMEZONE
BEGIN:VTIMEZONE
TZID:UTC
BEGIN:STANDARD
DTSTART:20250726T084228Z
TZOFFSETFROM:+0000
TZOFFSETTO:+0000
END:STANDARD
END:VTIMEZONE
BEGIN:VEVENT
UID:1196-43
DTSTAMP:20260422T084228Z
SUMMARY:Listing Compliance - Regulation 13 (3) - Statement of Investor Comp
 laints.
LOCATION:
ORGANIZER;CN=Tax Connect with madhuvridhi:MAILTO:cavridhi@gmail.com
RRULE:FREQ=YEARLY;BYMONTH=04;BYDAY=21;UNTIL=20300430T000000Z
DTSTART;TZID=Asia/Kolkata;VALUE=DATE:20260421
DTEND;TZID=Asia/Kolkata;VALUE=DATE:20260422
X-ALT-DESC;FMTTYPE=TEXT/HTML:The listed entity shall file with the recognis
 ed stock exchange(s) on a quarterly basis\, within twenty one days from th
 e end of each quarter\, a statement giving the number of investor complain
 ts pending at the beginning of the quarter\, those received during the qua
 rter\, disposed of during the quarter and those remaining unresolved at th
 e&amp;hellip\;
CATEGORIES:Listed Company Compliance
URL;VALUE=URI:https://tax-connect-madhuvridhi.com/mc-events/listing-complia
 nce-regulation-13-3-statement-of-investor-complaints/?mc_id=1196
METHOD:PUBLISH
END:VEVENT
END:VCALENDAR