BEGIN:VCALENDAR
VERSION:2.0
PRODID:spatie/icalendar-generator
DESCRIPTION:Events from Tax Connect
X-WR-CALDESC:Events from Tax Connect
REFRESH-INTERVAL;VALUE=DURATION:PT1440M
X-PUBLISHED-TTL:PT1440M
BEGIN:VTIMEZONE
TZID:Asia/Kolkata
BEGIN:STANDARD
DTSTART:20250714T000000Z
TZOFFSETFROM:+0500
TZOFFSETTO:+0500
END:STANDARD
END:VTIMEZONE
BEGIN:VTIMEZONE
TZID:UTC
BEGIN:STANDARD
DTSTART:20250728T083002Z
TZOFFSETFROM:+0000
TZOFFSETTO:+0000
END:STANDARD
END:VTIMEZONE
BEGIN:VEVENT
UID:40-3
DTSTAMP:20260424T083002Z
SUMMARY:GSTR 7 – GST TDS Return ‐Monthly
LOCATION:
ORGANIZER;CN=Tax Connect with madhuvridhi:MAILTO:cavridhi@gmail.com
RRULE:FREQ=MONTHLY;BYMONTHDAY=10;UNTIL=20300310T000000Z
DTSTART;TZID=Asia/Kolkata;VALUE=DATE:20260410
DTEND;TZID=Asia/Kolkata;VALUE=DATE:20260411
X-ALT-DESC;FMTTYPE=TEXT/HTML:
CATEGORIES:GST
URL;VALUE=URI:https://tax-connect-madhuvridhi.com/mc-events/gstr-7-gst-tds-
 return-%e2%80%90monthly/?mc_id=40
METHOD:PUBLISH
END:VEVENT
END:VCALENDAR